BEGIN:VCALENDAR
VERSION:2.0
PRODID:researchseminars.org
CALSCALE:GREGORIAN
X-WR-CALNAME:researchseminars.org
BEGIN:VEVENT
SUMMARY:Sean Dewar (Johann Radon Institute of Computational and Applied Ma
 thematics)
DTSTART:20200910T140000Z
DTEND:20200910T150000Z
DTSTAMP:20260423T052711Z
UID:VSAMRT/12
DESCRIPTION:Title: <a href="https://researchseminars.org/talk/VSAMRT/12/">
 Which graphs are rigid in lp spaces?</a>\nby Sean Dewar (Johann Radon Inst
 itute of Computational and Applied Mathematics) as part of Virtual seminar
  on algebraic matroids and rigidity theory\n\nAbstract: TBA\n
LOCATION:https://researchseminars.org/talk/VSAMRT/12/
END:VEVENT
END:VCALENDAR
