BEGIN:VCALENDAR
VERSION:2.0
PRODID:researchseminars.org
CALSCALE:GREGORIAN
X-WR-CALNAME:researchseminars.org
BEGIN:VEVENT
SUMMARY:Begoña Barrios (Universidad de la Laguna\, Spain)
DTSTART:20200612T121000Z
DTEND:20200612T125000Z
DTSTAMP:20260420T162009Z
UID:VMPDESA/9
DESCRIPTION:Title: <a href="https://researchseminars.org/talk/VMPDESA/9/">
 Equivalence of weak and viscosity solutions in fractional non-homogeneous 
 problems</a>\nby Begoña Barrios (Universidad de la Laguna\, Spain) as par
 t of Virtual Meeting in PDEs and Applications\n\nAbstract: TBA\n
LOCATION:https://researchseminars.org/talk/VMPDESA/9/
END:VEVENT
END:VCALENDAR
