BEGIN:VCALENDAR
VERSION:2.0
PRODID:researchseminars.org
CALSCALE:GREGORIAN
X-WR-CALNAME:researchseminars.org
BEGIN:VEVENT
SUMMARY:Joris Roos (University of Massachussetts Lowell & University of Ed
 inburgh)
DTSTART:20210326T150000Z
DTEND:20210326T160000Z
DTSTAMP:20260423T021104Z
UID:VMAS/19
DESCRIPTION:Title: <a href="https://researchseminars.org/talk/VMAS/19/">Di
 screte analogues of maximally modulated singular integrals of Stein-Wainge
 r type</a>\nby Joris Roos (University of Massachussetts Lowell & Universit
 y of Edinburgh) as part of Virtual Maxwell Analysis Seminar\n\nAbstract: T
 BA\n
LOCATION:https://researchseminars.org/talk/VMAS/19/
END:VEVENT
END:VCALENDAR
