BEGIN:VCALENDAR
VERSION:2.0
PRODID:researchseminars.org
CALSCALE:GREGORIAN
X-WR-CALNAME:researchseminars.org
BEGIN:VEVENT
SUMMARY:Jill Pipher (Brown University)
DTSTART:20210305T150000Z
DTEND:20210305T160000Z
DTSTAMP:20260423T021000Z
UID:VMAS/13
DESCRIPTION:Title: <a href="https://researchseminars.org/talk/VMAS/13/">Re
 gularity of solutions of complex coefficient elliptic systems: the p-ellip
 ticity condition</a>\nby Jill Pipher (Brown University) as part of Virtual
  Maxwell Analysis Seminar\n\nAbstract: TBA\n
LOCATION:https://researchseminars.org/talk/VMAS/13/
END:VEVENT
END:VCALENDAR
