BEGIN:VCALENDAR
VERSION:2.0
PRODID:researchseminars.org
CALSCALE:GREGORIAN
X-WR-CALNAME:researchseminars.org
BEGIN:VEVENT
SUMMARY:Marco Aldi (Virginia Commonwealth University)
DTSTART:20220422T190000Z
DTEND:20220422T200000Z
DTSTAMP:20260423T024454Z
UID:VCU_ALPS/27
DESCRIPTION:Title: <a href="https://researchseminars.org/talk/VCU_ALPS/27/
 ">An Ordered Approach to Calculus</a>\nby Marco Aldi (Virginia Commonwealt
 h University) as part of VCU ALPS (Analysis\, Logic\, and Physics Seminar)
 \n\nLecture held in Harris Hall 4145.\n\nAbstract\nThis talk is an update 
 on my ongoing project on the foundations of analysis. I will explain how e
 xtensions of maps between posets can be used as a unifying principle to co
 nceptually understand basic notions such as limits\, continuity\, integral
 s\, derivatives\, and Dedekind cuts. If time permits\, I will show how thi
 s approach leads to new proofs of familiar theorems.\n
LOCATION:https://researchseminars.org/talk/VCU_ALPS/27/
END:VEVENT
END:VCALENDAR
