BEGIN:VCALENDAR
VERSION:2.0
PRODID:researchseminars.org
CALSCALE:GREGORIAN
X-WR-CALNAME:researchseminars.org
BEGIN:VEVENT
SUMMARY:Jai Laxmi (Tata Institute of Fundamental Research\, Mumbai)
DTSTART:20210827T120000Z
DTEND:20210827T130000Z
DTSTAMP:20260423T035050Z
UID:VCAS/97
DESCRIPTION:Title: <a href="https://researchseminars.org/talk/VCAS/97/">Go
 renstein ideals of codimension four</a>\nby Jai Laxmi (Tata Institute of F
 undamental Research\, Mumbai) as part of IIT Bombay Virtual Commutative Al
 gebra Seminar\n\n\nAbstract\nWe explore spinor coordinates on free resolut
 ions of\ncodimension four Gorenstein ideals. Our analysis of spinor coordi
 nate\nexamples shows notable differences between Gorenstein ideals with 4\
 , 6\,\n7\, and 8 generators compared to those with more generators. Also\,
  we\ndiscuss the codimension four Gorenstein ideals resulting from doublin
 g\ncodimension three perfect ideals. We see\, in particular\, the construc
 tion\nof generic doublings of almost complete intersection perfect ideals 
 of\ncodimension three.\n
LOCATION:https://researchseminars.org/talk/VCAS/97/
END:VEVENT
END:VCALENDAR
