BEGIN:VCALENDAR
VERSION:2.0
PRODID:researchseminars.org
CALSCALE:GREGORIAN
X-WR-CALNAME:researchseminars.org
BEGIN:VEVENT
SUMMARY:Yairon Cid-Ruiz (Ghent University\, Krijgslaan\, Belgium)
DTSTART:20210716T120000Z
DTEND:20210716T130000Z
DTSTAMP:20260423T035034Z
UID:VCAS/93
DESCRIPTION:Title: <a href="https://researchseminars.org/talk/VCAS/93/">Co
 nvex bodies and graded families of monomial ideals</a>\nby Yairon Cid-Ruiz
  (Ghent University\, Krijgslaan\, Belgium) as part of IIT Bombay Virtual C
 ommutative Algebra Seminar\n\n\nAbstract\nWe show that the mixed volumes o
 f arbitrary convex bodies are equal to mixed multiplicities of graded fami
 lies of monomial ideals and to normalized limits of mixed multiplicities o
 f monomial ideals. This result evinces the close relationship between the 
 theories of mixed volumes from convex geometry and mixed multiplicities fr
 om commutative algebra. This is joint work with Jonathan Montaño. \n\nTim
 e permitting\, we will also speak about some joint work with Fatemeh Moham
 madi and Leonid Monin regarding "multi-graded algebras and multi-graded li
 near series".\n
LOCATION:https://researchseminars.org/talk/VCAS/93/
END:VEVENT
END:VCALENDAR
