BEGIN:VCALENDAR
VERSION:2.0
PRODID:researchseminars.org
CALSCALE:GREGORIAN
X-WR-CALNAME:researchseminars.org
BEGIN:VEVENT
SUMMARY:Alessandro De Stefani\, (University of Genoa)
DTSTART:20200811T120000Z
DTEND:20200811T130000Z
DTSTAMP:20260423T021013Z
UID:VCAS/9
DESCRIPTION:Title: <a href="https://researchseminars.org/talk/VCAS/9/">Def
 ormation and stability of F-injective singularities</a>\nby Alessandro De 
 Stefani\, (University of Genoa) as part of IIT Bombay Virtual Commutative 
 Algebra Seminar\n\n\nAbstract\nPicking up from the talk given by Linquan M
 a\, I will discuss some more cases where deformation of F-injectivity is k
 nown to hold\, and I will discuss the related notion of m-adic stability. 
 The talk will be based on joint projects with Linquan Ma (deformation) and
  Ilya Smirnov (stability).\n
LOCATION:https://researchseminars.org/talk/VCAS/9/
END:VEVENT
END:VCALENDAR
