BEGIN:VCALENDAR
VERSION:2.0
PRODID:researchseminars.org
CALSCALE:GREGORIAN
X-WR-CALNAME:researchseminars.org
BEGIN:VEVENT
SUMMARY:Tim Roemer (University of Osnabrueck)
DTSTART:20210514T120000Z
DTEND:20210514T130000Z
DTSTAMP:20260423T035053Z
UID:VCAS/82
DESCRIPTION:Title: <a href="https://researchseminars.org/talk/VCAS/82/">Cu
 t and related polytopes in commutative algebra</a>\nby Tim Roemer (Univers
 ity of Osnabrueck) as part of IIT Bombay Virtual Commutative Algebra Semin
 ar\n\n\nAbstract\nThe study of cuts in graphs is an interesting topic in d
 iscrete mathematics and optimization with relations and applications to ma
 ny other fields such as algebraic geometry\, algebraic statistics\, and co
 mmutative algebra. Here we focus on cut algebras\, which are toric algebra
 s\, and each one is defined by all cuts of a given graph\,\nand similar co
 nstructions. We discuss known and new results as well as open questions re
 lated to the algebraic properties of such algebras and their defining idea
 ls.\n
LOCATION:https://researchseminars.org/talk/VCAS/82/
END:VEVENT
END:VCALENDAR
