BEGIN:VCALENDAR
VERSION:2.0
PRODID:researchseminars.org
CALSCALE:GREGORIAN
X-WR-CALNAME:researchseminars.org
BEGIN:VEVENT
SUMMARY:Cheng Meng (Purdue University\, West Lafayette\, IN\, USA)
DTSTART:20230310T120000Z
DTEND:20230310T130000Z
DTSTAMP:20260423T021104Z
UID:VCAS/169
DESCRIPTION:Title: <a href="https://researchseminars.org/talk/VCAS/169/">M
 ultiplicities in flat local extensions</a>\nby Cheng Meng (Purdue Universi
 ty\, West Lafayette\, IN\, USA) as part of IIT Bombay Virtual Commutative 
 Algebra Seminar\n\n\nAbstract\nWe introduce the notion of strongly Lech-in
 dependent ideals as a generalization of Lech-independent ideals defined by
  Lech and Hanes\, and use this notion to derive inequalities on multiplici
 ties of ideals. In particular we prove that if (R\,m) and (S\,n) are Noeth
 erian local rings of the same dimension\, S is a flat local extension of R
 \,and up to completion S is standard graded over a field and I=mS is homog
 eneous\, then the multiplicity of R is no greater than that of S.\n
LOCATION:https://researchseminars.org/talk/VCAS/169/
END:VEVENT
END:VCALENDAR
