BEGIN:VCALENDAR
VERSION:2.0
PRODID:researchseminars.org
CALSCALE:GREGORIAN
X-WR-CALNAME:researchseminars.org
BEGIN:VEVENT
SUMMARY:Vivek Sadhu (IISER Bhopal\, Madhya Pradesh\, India)
DTSTART:20221104T120000Z
DTEND:20221104T130000Z
DTSTAMP:20260423T020953Z
UID:VCAS/145
DESCRIPTION:Title: <a href="https://researchseminars.org/talk/VCAS/145/">I
 njectivity of Brauer groups for valuation rings</a>\nby Vivek Sadhu (IISER
  Bhopal\, Madhya Pradesh\, India) as part of IIT Bombay Virtual Commutativ
 e Algebra Seminar\n\n\nAbstract\nIn the non noetherian situation\, valuati
 on rings often behave like regular rings. We will discuss several such res
 ults which are classically known to be true for regular rings\, but also t
 rue for valuation rings. We then focus on Brauer groups. It is well known 
 that Br(R) injects into Br(K) provided R is a regular domain and K=qt(R). 
 We observe  that the same is true for valuation rings. In fact\, we will d
 iscuss a more general result in the setting of etale cohomology.\n
LOCATION:https://researchseminars.org/talk/VCAS/145/
END:VEVENT
END:VCALENDAR
