BEGIN:VCALENDAR
VERSION:2.0
PRODID:researchseminars.org
CALSCALE:GREGORIAN
X-WR-CALNAME:researchseminars.org
BEGIN:VEVENT
SUMMARY:Jerzy Weyman (Jagiellonian University\, Poland)
DTSTART:20211203T130000Z
DTEND:20211203T140000Z
DTSTAMP:20260423T035037Z
UID:VCAS/111
DESCRIPTION:Title: <a href="https://researchseminars.org/talk/VCAS/111/">G
 orenstein ideals of codimension 4</a>\nby Jerzy Weyman (Jagiellonian Unive
 rsity\, Poland) as part of IIT Bombay Virtual Commutative Algebra Seminar\
 n\n\nAbstract\nIn this talk I will describe old and new results on free re
 solutions of Gorenstein ideals of codimension 4.\nIn the first part I will
  discuss situation in codimension 3 and Kustin-Miller results. Then I will
  describe new ideas related to spinor structures and connection to the exc
 eptional root systems.\nChairperson - Bernd Ulrich\n
LOCATION:https://researchseminars.org/talk/VCAS/111/
END:VEVENT
END:VCALENDAR
