BEGIN:VCALENDAR
VERSION:2.0
PRODID:researchseminars.org
CALSCALE:GREGORIAN
X-WR-CALNAME:researchseminars.org
BEGIN:VEVENT
SUMMARY:Noy Soffer Aranov (Utah)
DTSTART:20250917T220000Z
DTEND:20250917T230000Z
DTSTAMP:20260423T024648Z
UID:UtahRTNT/5
DESCRIPTION:Title: <a href="https://researchseminars.org/talk/UtahRTNT/5/"
 >The Minimal Denominator in Function Fields</a>\nby Noy Soffer Aranov (Uta
 h) as part of University of Utah Representation Theory / Number Theory Sem
 inar\n\nLecture held in LCB 222.\n\nAbstract\nMeiss and Sanders proposed a
 n experiment in which they fix $\\delta>0$ and study the statistics of the
  minimal denominator $Q$ for which there exists a rational $\\frac{P}{Q}\\
 in (x-\\delta\,x+\\delta)$\, where $x$ is varied. In this talk\, I will di
 scuss the history of this problem and its generalizations\, as well as the
  function field analogue of the minimal denominator problem and open quest
 ions. This is based off the preprint https://arxiv.org/pdf/2501.00171.\n
LOCATION:https://researchseminars.org/talk/UtahRTNT/5/
END:VEVENT
END:VCALENDAR
