BEGIN:VCALENDAR
VERSION:2.0
PRODID:researchseminars.org
CALSCALE:GREGORIAN
X-WR-CALNAME:researchseminars.org
BEGIN:VEVENT
SUMMARY:Kei Yuen Chan (The University of Hong Kong)
DTSTART:20260401T220000Z
DTEND:20260401T230000Z
DTSTAMP:20260423T024028Z
UID:UtahRTNT/13
DESCRIPTION:Title: <a href="https://researchseminars.org/talk/UtahRTNT/13/
 ">Branching laws for general linear groups over local fields: Rankin-Selbe
 rg integrals and minimal multisegments</a>\nby Kei Yuen Chan (The Universi
 ty of Hong Kong) as part of University of Utah Representation Theory / Num
 ber Theory Seminar\n\nLecture held in LCB 222.\n\nAbstract\nI will continu
 e my talk two weeks ago. The first part of my talk explains the Rankin-Sel
 berg integrals from the work of Jacquet--Pieteski-Shapiro--Shalika and an 
 extension by Cogdell--Piatetski-Shapiro\, and the second part of my talk e
 xplains a notion of minimal multisegments and connections to Bernstein-Zel
 evinsky derivatives.\n
LOCATION:https://researchseminars.org/talk/UtahRTNT/13/
END:VEVENT
END:VCALENDAR
