BEGIN:VCALENDAR
VERSION:2.0
PRODID:researchseminars.org
CALSCALE:GREGORIAN
X-WR-CALNAME:researchseminars.org
BEGIN:VEVENT
SUMMARY:Marissa Giustina (Google AI Quantum\, Google Research)
DTSTART:20200609T010000Z
DTEND:20200609T020000Z
DTSTAMP:20260423T010235Z
UID:UTSQSI/8
DESCRIPTION:Title: <a href="https://researchseminars.org/talk/UTSQSI/8/">B
 uilding Google’s quantum computer</a>\nby Marissa Giustina (Google AI Qu
 antum\, Google Research) as part of Centre for Quantum Software and Inform
 ation Seminar Series\n\n\nAbstract\nThe Google AI Quantum team develops ch
 ip-based circuitry that one can interact with (control and read out) and w
 hich behaves reliably according to a simple quantum model. Such quantum ha
 rdware holds promise as a platform for tackling problems intractable to cl
 assical computing hardware. While the demonstration of a universal\, fault
 -tolerant\, quantum computer remains a goal for the future\, it has inform
 ed the design of a prototype with which we have recently controlled a quan
 tum system of unprecedented scale. \n\nThis talk introduces Google’s qua
 ntum computing effort from both hardware and quantum-information perspecti
 ves\, including an overview of recent technological developments and some 
 recent results.\n\nHosted by: A/Prof Nathan Langford\, UTS Centre for Quan
 tum Software and Information\n
LOCATION:https://researchseminars.org/talk/UTSQSI/8/
END:VEVENT
END:VCALENDAR
