BEGIN:VCALENDAR
VERSION:2.0
PRODID:researchseminars.org
CALSCALE:GREGORIAN
X-WR-CALNAME:researchseminars.org
BEGIN:VEVENT
SUMMARY:Yihui Quek (Stanford University)
DTSTART:20210708T010000Z
DTEND:20210708T020000Z
DTSTAMP:20260423T041750Z
UID:UTSQSI/27
DESCRIPTION:Title: <a href="https://researchseminars.org/talk/UTSQSI/27/">
 Introduction to Quantum Singular Value Transform with applications to Petz
  map\, Polar decomposition and Pretty-Good Measurements</a>\nby Yihui Quek
  (Stanford University) as part of Centre for Quantum Software and Informat
 ion Seminar Series\n\n\nAbstract\nThe recently-introduced quantum algorith
 mic technique of quantum singular value transform (QSVT) has been hailed a
 s a `grand unification of quantum algorithms’.\n\nIn this talk\, we give
  a pedagogical introduction to this toolbox\, and illustrate its flexibili
 ty and precision by using it to implement tools in quantum linear algebra\
 , quantum noise recovery and optimal quantum measurements: i) the quantum 
 polar decomposition ii) the Petz recovery channel iii) pretty-good measure
 ments. Previously\, a significant hurdle to the experimental realization o
 f these vaunted theoretical tools was the lack of a systematic and efficie
 nt method to implement them\; we rectify this lack by proposing quantum al
 gorithms for all three tools based on QSVT.\n\nThis talk is based on arXiv
 :2006.16924 and arXiv:2106.07634.\n\nTo request the zoom link\, please sen
 d a message cqsiadmin@uts.edu.au using your business/organisation/institut
 ion email address.\n\nSEMINAR HOSTED BY: Dr Mária Kieferová\, Centre for
  Quantum Software and Information\, University of Technology Sydney\, Aust
 ralia\n
LOCATION:https://researchseminars.org/talk/UTSQSI/27/
END:VEVENT
END:VCALENDAR
