BEGIN:VCALENDAR
VERSION:2.0
PRODID:researchseminars.org
CALSCALE:GREGORIAN
X-WR-CALNAME:researchseminars.org
BEGIN:VEVENT
SUMMARY:Felipe Rosso (USC)
DTSTART:20200527T191500Z
DTEND:20200527T204500Z
DTSTAMP:20260423T023052Z
UID:USC-HET/4
DESCRIPTION:Title: <a href="https://researchseminars.org/talk/USC-HET/4/">
 Achronal Averaged Null Energy Condition for extremal horizons and (A)dS</a
 >\nby Felipe Rosso (USC) as part of USC High Energy Theory Seminars\n\n\nA
 bstract\nThe achronal Averaged Null Energy Condition (ANEC) is a conjectur
 ed bound on the stress tensor in semi-classical gravity that has deep impl
 ications for both gravitational and quantum theories. While several argume
 nts have been given in favor of this condition\, concrete and general proo
 fs are so far only available in Minkowski. In this talk I explain how the 
 achronal ANEC can be explicitly derived using quantum information theory f
 or general QFTs in the near horizon of extremal black holes\, de Sitter an
 d anti-de Sitter.\n\nZoom meeting ID: 925 2872 4339\nPassword: 579212\n\n(
 You will enter a waiting room for a short while.)\n
LOCATION:https://researchseminars.org/talk/USC-HET/4/
END:VEVENT
END:VCALENDAR
