BEGIN:VCALENDAR
VERSION:2.0
PRODID:researchseminars.org
CALSCALE:GREGORIAN
X-WR-CALNAME:researchseminars.org
BEGIN:VEVENT
SUMMARY:Thomas Dumistrescu (UCLA)
DTSTART:20200506T191500Z
DTEND:20200506T204500Z
DTSTAMP:20260423T023045Z
UID:USC-HET/1
DESCRIPTION:Title: <a href="https://researchseminars.org/talk/USC-HET/1/">
 An Introduction to 2-Group Global Symmetry</a>\nby Thomas Dumistrescu (UCL
 A) as part of USC High Energy Theory Seminars\n\nLecture held in Online on
 ly\, but normally: SSC 319 on University Park Campus (USC).\n\nAbstract\nI
  will briefly review the generalization of ordinary global symmetries to h
 igher-form symmetries (which act on extended objects) in quantum field the
 ory. I will then showcase simple but surprising examples in 4d and 6d wher
 e ordinary and 1-form global symmetries are necessarily fused together int
 o a higher structure known as a 2-group. Time permitting\, I will discuss 
 some applications to superconformal theories in 6d.\n\nZoom Meeting ID: 92
 4 6768 3111\nPassword: 620110\n(You will enter a waiting room for a brief 
 period.)\n
LOCATION:https://researchseminars.org/talk/USC-HET/1/
END:VEVENT
END:VCALENDAR
