BEGIN:VCALENDAR
VERSION:2.0
PRODID:researchseminars.org
CALSCALE:GREGORIAN
X-WR-CALNAME:researchseminars.org
BEGIN:VEVENT
SUMMARY:Daqing Wan
DTSTART:20200803T160000Z
DTEND:20200803T170000Z
DTSTAMP:20260423T035819Z
UID:UNYONTC/5
DESCRIPTION:Title: <a href="https://researchseminars.org/talk/UNYONTC/5/">
 Slopes in Z_p-towers of curves</a>\nby Daqing Wan as part of Upstate New Y
 ork Online Number Theory Colloquium\n\n\nAbstract\nThis is an expository l
 ecture. We shall review basic questions\, results and ideas on slopes for 
 zeta functions of curves over finite fields of characteristic p. The empha
 sis will be on the slope variation when the curve varies in a $Z_p$-tower.
 \n
LOCATION:https://researchseminars.org/talk/UNYONTC/5/
END:VEVENT
END:VCALENDAR
