BEGIN:VCALENDAR
VERSION:2.0
PRODID:researchseminars.org
CALSCALE:GREGORIAN
X-WR-CALNAME:researchseminars.org
BEGIN:VEVENT
SUMMARY:Ulrike Diebold (Institute of Applied Physics\, Technical Universit
 y of Vienna)
DTSTART:20201111T153000Z
DTEND:20201111T163000Z
DTSTAMP:20260423T022921Z
UID:UNIBE_BCG/1
DESCRIPTION:Title: <a href="https://researchseminars.org/talk/UNIBE_BCG/1/
 ">The interaction between water and oxide surfaces – from ultrahigh vacu
 um to the liquid phase</a>\nby Ulrike Diebold (Institute of Applied Physic
 s\, Technical University of Vienna) as part of Berner Chemische Gesellscha
 ft\n\nAbstract: TBA\n
LOCATION:https://researchseminars.org/talk/UNIBE_BCG/1/
END:VEVENT
END:VCALENDAR
