BEGIN:VCALENDAR
VERSION:2.0
PRODID:researchseminars.org
CALSCALE:GREGORIAN
X-WR-CALNAME:researchseminars.org
BEGIN:VEVENT
SUMMARY:Kasia Rejzner (University of York)
DTSTART:20210322T180000Z
DTEND:20210322T190000Z
DTSTAMP:20260423T022632Z
UID:UMassRep/20
DESCRIPTION:Title: <a href="https://researchseminars.org/talk/UMassRep/20/
 ">BV-BFV formalism and asymptotic quantization</a>\nby Kasia Rejzner (Univ
 ersity of York) as part of UMass Amherst Representation theory seminar\n\n
 \nAbstract\nIn this talk I will present the recent results obtained in col
 laboration with Michele Schiavina concerning a generalization of the BV-BF
 V formalism to theories with non-trivial asymptotics "at infinity". The or
 iginal BV-BFV framework is a tool for quantizing gauge theories on manifol
 ds with boundary. The new idea is to extend this to situations where inste
 ad of boundary conditions one imposes falloff conditions for fields in the
  theory. The main example I will discuss is quantum electrodynamics on Min
 kowski spacetime\n
LOCATION:https://researchseminars.org/talk/UMassRep/20/
END:VEVENT
END:VCALENDAR
