BEGIN:VCALENDAR
VERSION:2.0
PRODID:researchseminars.org
CALSCALE:GREGORIAN
X-WR-CALNAME:researchseminars.org
BEGIN:VEVENT
SUMMARY:David Harbater (Univ. of Pennsylvania)
DTSTART:20210412T180000Z
DTEND:20210412T190000Z
DTSTAMP:20260423T005838Z
UID:UMDANT/7
DESCRIPTION:Title: <a href="https://researchseminars.org/talk/UMDANT/7/">L
 ocal-global principles over semi-global fields</a>\nby David Harbater (Uni
 v. of Pennsylvania) as part of University of Maryland algebra/number theor
 y seminar\n\nAbstract: TBA\n
LOCATION:https://researchseminars.org/talk/UMDANT/7/
END:VEVENT
END:VCALENDAR
