BEGIN:VCALENDAR
VERSION:2.0
PRODID:researchseminars.org
CALSCALE:GREGORIAN
X-WR-CALNAME:researchseminars.org
BEGIN:VEVENT
SUMMARY:Debarghya Chakraborty (UK)
DTSTART:20231108T183000Z
DTEND:20231108T193000Z
DTSTAMP:20260423T023009Z
UID:UKYhepth/67
DESCRIPTION:Title: <a href="https://researchseminars.org/talk/UKYhepth/67/
 ">Temperature Dependence of Lanczos Coefficients</a>\nby Debarghya Chakrab
 orty (UK) as part of Theoretical Physics Seminars (Kentucky)\n\nLecture he
 ld in CP 303.\n\nAbstract\nThere has been a resurgence of interest in the 
 Lanczos method as an efficient way of describing operator dynamics. The st
 arting point is the thermal autocorrelation function that endows the Lancz
 os coefficients with temperature dependence.  I will describe how the temp
 erature dependence of the Lanczos coefficients can be recast as a classica
 l integrable system which can be formally solved as an initial value probl
 em. I will give examples and discuss potential applications.\n
LOCATION:https://researchseminars.org/talk/UKYhepth/67/
END:VEVENT
END:VCALENDAR
