BEGIN:VCALENDAR
VERSION:2.0
PRODID:researchseminars.org
CALSCALE:GREGORIAN
X-WR-CALNAME:researchseminars.org
BEGIN:VEVENT
SUMMARY:Mitch Weaver (Cincinnati)
DTSTART:20221012T163000Z
DTEND:20221012T180000Z
DTSTAMP:20260423T023008Z
UID:UKYhepth/56
DESCRIPTION:Title: <a href="https://researchseminars.org/talk/UKYhepth/56/
 ">Mixing local and extended operators: a 2d vertex algebra in 4d N = 2 SCF
 Ts</a>\nby Mitch Weaver (Cincinnati) as part of Theoretical Physics Semina
 rs (Kentucky)\n\nAbstract: TBA\n
LOCATION:https://researchseminars.org/talk/UKYhepth/56/
END:VEVENT
END:VCALENDAR
