BEGIN:VCALENDAR
VERSION:2.0
PRODID:researchseminars.org
CALSCALE:GREGORIAN
X-WR-CALNAME:researchseminars.org
BEGIN:VEVENT
SUMMARY:Ismail Zahed (SUNY\, Stony Brook)
DTSTART:20210222T190000Z
DTEND:20210222T200000Z
DTSTAMP:20260423T023008Z
UID:UKYhepth/31
DESCRIPTION:Title: <a href="https://researchseminars.org/talk/UKYhepth/31/
 ">Reggeized scattering\, entanglement and chaos using AdS/CFT</a>\nby Isma
 il Zahed (SUNY\, Stony Brook) as part of Theoretical Physics Seminars (Ken
 tucky)\n\nAbstract: TBA\n
LOCATION:https://researchseminars.org/talk/UKYhepth/31/
END:VEVENT
END:VCALENDAR
