BEGIN:VCALENDAR
VERSION:2.0
PRODID:researchseminars.org
CALSCALE:GREGORIAN
X-WR-CALNAME:researchseminars.org
BEGIN:VEVENT
SUMMARY:Ivan Todorov (Queen's University Belfast)
DTSTART:20200618T150000Z
DTEND:20200618T154500Z
DTSTAMP:20260423T022007Z
UID:UKVOAS/8
DESCRIPTION:Title: <a href="https://researchseminars.org/talk/UKVOAS/8/">N
 on-local games: operator algebraic approaches</a>\nby Ivan Todorov (Queen'
 s University Belfast) as part of UK Virtual operator algebras seminar\n\n\
 nAbstract\nThe study of non-local games has involved fruitful interactions
  between operator algebra theory and quantum physics\, with a starting poi
 nt the link between the Connes Embedding Problem and the Tsirelson Problem
 \, uncovered by Junge et al (2011) and Ozawa (2013). Particular instances 
 of non-local games\, such as binary constraint system games and synchronou
 s games\, have played an important role in the pursuit of the resolution o
 f these problems. In this talk\, I will summarise part of the operator alg
 ebraic toolkit that has proved useful in the study of non-local games and 
 of their perfect strategies\, highlighting the role C*-algebras and operat
 or systems play in their mathematical understanding.\n
LOCATION:https://researchseminars.org/talk/UKVOAS/8/
END:VEVENT
END:VCALENDAR
