BEGIN:VCALENDAR
VERSION:2.0
PRODID:researchseminars.org
CALSCALE:GREGORIAN
X-WR-CALNAME:researchseminars.org
BEGIN:VEVENT
SUMMARY:Enrique Fernández-Cara (Universidad de Sevilla)
DTSTART:20200730T190000Z
DTEND:20200730T200000Z
DTSTAMP:20260423T035816Z
UID:UFPB/1
DESCRIPTION:Title: <a href="https://researchseminars.org/talk/UFPB/1/">Som
 e ideas concerning doctoral programs and initiation in research in Mathema
 tics</a>\nby Enrique Fernández-Cara (Universidad de Sevilla) as part of S
 eminários de Matemática da UFPB\n\n\nAbstract\nIn the first part of this
  talk\, I will try to present some ideas that\, in my opinion\, are crucia
 l for the success of a Doctoral Program in mathematics. I will begin with 
 some claims: the need of auto criticism\, the recognition of our limits an
 d the convenience of diffusion. Then\, I will make some comments on the (p
 ositive and negative) best known peculiarities of mathematicians. I will a
 lso speak of the “teaching style”\, a controversial subject that has l
 ed to many discussions. In the second part\, I will mention several mathem
 atical problems (in a few cases connected to real world phenomena) that ha
 ve served as motivation and starting point for some recent PhD Theses. I w
 ill describe the chosen strategies and the corresponding results\, paying 
 special attention to the main difficulties found in their analysis. Finall
 y\, particular and nontrivial questions on the control and inverse problem
 s for linear and nonlinear PDEs will be reviewed from both the theoretical
  and numerical viewpoints.\n
LOCATION:https://researchseminars.org/talk/UFPB/1/
END:VEVENT
END:VCALENDAR
