BEGIN:VCALENDAR
VERSION:2.0
PRODID:researchseminars.org
CALSCALE:GREGORIAN
X-WR-CALNAME:researchseminars.org
BEGIN:VEVENT
SUMMARY:Ian Roberts (Aerotex)
DTSTART:20260209T160000Z
DTEND:20260209T170000Z
DTSTAMP:20260423T022803Z
UID:UEA_mth/24
DESCRIPTION:Title: <a href="https://researchseminars.org/talk/UEA_mth/24/"
 >In-flight icing – the challenges of high-speed droplet impingement and 
 surface flows</a>\nby Ian Roberts (Aerotex) as part of Fluids and Structur
 es Seminar @ UEA\n\nAbstract: TBA\n
LOCATION:https://researchseminars.org/talk/UEA_mth/24/
END:VEVENT
END:VCALENDAR
