BEGIN:VCALENDAR
VERSION:2.0
PRODID:researchseminars.org
CALSCALE:GREGORIAN
X-WR-CALNAME:researchseminars.org
BEGIN:VEVENT
SUMMARY:Susam Boral (Trinity College Dublin)
DTSTART:20250822T120000Z
DTEND:20250822T130000Z
DTSTAMP:20260423T041338Z
UID:UEA_mth/22
DESCRIPTION:Title: <a href="https://researchseminars.org/talk/UEA_mth/22/"
 >Time-Domain Analysis of Periodic Dynamics in Flexible Submarine Cables</a
 >\nby Susam Boral (Trinity College Dublin) as part of Fluids and Structure
 s Seminar @ UEA\n\nLecture held in SCI 1.20.\nAbstract: TBA\n
LOCATION:https://researchseminars.org/talk/UEA_mth/22/
END:VEVENT
END:VCALENDAR
