BEGIN:VCALENDAR
VERSION:2.0
PRODID:researchseminars.org
CALSCALE:GREGORIAN
X-WR-CALNAME:researchseminars.org
BEGIN:VEVENT
SUMMARY:Lassina Dembele (KCL)
DTSTART:20241105T140000Z
DTEND:20241105T150000Z
DTSTAMP:20260421T194137Z
UID:UEAPS/41
DESCRIPTION:Title: <a href="https://researchseminars.org/talk/UEAPS/41/">P
 arametrising abelian surfaces with RM by $\\mathbb{Z}[\\sqrt{2}]$ using Ri
 chelot isogenies</a>\nby Lassina Dembele (KCL) as part of ANTLR seminar\n\
 nLecture held in NEWSCI 0.03.\n\nAbstract\nIn this talk\, we describe a pa
 rametrisation of abelian surfaces with real multiplication by $\\mathbb{Z}
 [\\sqrt{2}]$ using Richelot isogenies\, and give some arithmetic applicati
 ons.\n
LOCATION:https://researchseminars.org/talk/UEAPS/41/
END:VEVENT
END:VCALENDAR
