BEGIN:VCALENDAR
VERSION:2.0
PRODID:researchseminars.org
CALSCALE:GREGORIAN
X-WR-CALNAME:researchseminars.org
BEGIN:VEVENT
SUMMARY:Yujie Xu (MIT)
DTSTART:20230302T220000Z
DTEND:20230302T230000Z
DTSTAMP:20260423T022815Z
UID:UCSD_NTS/85
DESCRIPTION:Title: <a href="https://researchseminars.org/talk/UCSD_NTS/85/
 ">Hecke algebras for p-adic groups and the explicit Local Langlands Corres
 pondence for G_2</a>\nby Yujie Xu (MIT) as part of UCSD number theory semi
 nar\n\nLecture held in APM 6402 and online.\n\nAbstract\nI will talk about
  my recent joint work with Aubert where we prove the Local Langlands Conje
 cture for G_2 (explicitly). This uses our earlier results on Hecke algebra
 s attached to Bernstein components of reductive p-adic groups\, as well as
  an expected property on cuspidal support\, along with a list of character
 izing properties. In particular\, we obtain "mixed" L-packets containing F
 -singular supercuspidals and non-supercuspidals.\n\npre-talk at 1:20pm\n
LOCATION:https://researchseminars.org/talk/UCSD_NTS/85/
END:VEVENT
END:VCALENDAR
