BEGIN:VCALENDAR
VERSION:2.0
PRODID:researchseminars.org
CALSCALE:GREGORIAN
X-WR-CALNAME:researchseminars.org
BEGIN:VEVENT
SUMMARY:Gyujin Oh (Princeton)
DTSTART:20220512T210000Z
DTEND:20220512T220000Z
DTSTAMP:20260423T022813Z
UID:UCSD_NTS/68
DESCRIPTION:Title: <a href="https://researchseminars.org/talk/UCSD_NTS/68/
 ">A cohomological approach to harmonic Maass forms</a>\nby Gyujin Oh (Prin
 ceton) as part of UCSD number theory seminar\n\nLecture held in APM 6402 a
 nd online.\n\nAbstract\nWe interpret a harmonic Maass form as a variant of
  a local cohomology class of the modular curve. This is not only amenable 
 to algebraic interpretation\, but also nicely generalized to other Shimura
  varieties\, avoiding the barrier of Koecher's principle\, which could be 
 useful for developing a generalization of Borcherds lifts. In this talk\, 
 we will exhibit how the theory looks like in the case of Hilbert modular v
 arities.\n\npre-talk\n
LOCATION:https://researchseminars.org/talk/UCSD_NTS/68/
END:VEVENT
END:VCALENDAR
