BEGIN:VCALENDAR
VERSION:2.0
PRODID:researchseminars.org
CALSCALE:GREGORIAN
X-WR-CALNAME:researchseminars.org
BEGIN:VEVENT
SUMMARY:Bao Le Hung (Northwestern University)
DTSTART:20201210T220000Z
DTEND:20201210T230000Z
DTSTAMP:20260423T022809Z
UID:UCSD_NTS/20
DESCRIPTION:Title: <a href="https://researchseminars.org/talk/UCSD_NTS/20/
 ">Moduli of Fontaine-Laffaille modules and mod p local-global compatibilit
 y.</a>\nby Bao Le Hung (Northwestern University) as part of UCSD number th
 eory seminar\n\nLecture held in normally APM 7321\, currently online.\n\nA
 bstract\nThe mod p cohomology of locally symmetric spaces for definite uni
 tary groups at infinite level is expected to realize the mod p local Langl
 ands correspondence for GL_n. In particular\, one expects the (component a
 t p) of the associated Galois representation to be determined by cohomolog
 y as a smooth representation. I will describe how one can establish this e
 xpectation in many cases when the local Galois representation is Fontaine-
 Laffaille.\nThis is joint work with D. Le\, S. Morra\, C. Park and Z. Qian
 .\n
LOCATION:https://researchseminars.org/talk/UCSD_NTS/20/
END:VEVENT
END:VCALENDAR
