BEGIN:VCALENDAR
VERSION:2.0
PRODID:researchseminars.org
CALSCALE:GREGORIAN
X-WR-CALNAME:researchseminars.org
BEGIN:VEVENT
SUMMARY:Sam Mundy (Columbia University)
DTSTART:20210108T230000Z
DTEND:20210109T000000Z
DTSTAMP:20260423T040410Z
UID:UCSBsga/6
DESCRIPTION:Title: <a href="https://researchseminars.org/talk/UCSBsga/6/">
 Cuspidal $p$-adic deformations of critical Eisenstein series for $G_2$</a>
 \nby Sam Mundy (Columbia University) as part of UCSB Seminar on Geometry a
 nd Arithmetic\n\n\nAbstract\nIn this talk\, I will explain how (under cert
 ain standard conjectures of Arthur) Urban's eigenvariety allows us to $p$-
 adically deform\, in generically cuspidal families\, critical $p$-stabiliz
 ations of certain maximal parabolic Eisenstein series for $G_2$. This has 
 consequences for the symmetric cube Bloch--Kato conjecture.\n
LOCATION:https://researchseminars.org/talk/UCSBsga/6/
END:VEVENT
END:VCALENDAR
