BEGIN:VCALENDAR
VERSION:2.0
PRODID:researchseminars.org
CALSCALE:GREGORIAN
X-WR-CALNAME:researchseminars.org
BEGIN:VEVENT
SUMMARY:Jie Lin (Universitat Duiburg-Essen)
DTSTART:20210319T180000Z
DTEND:20210319T190000Z
DTSTAMP:20260423T005833Z
UID:UCSBsga/15
DESCRIPTION:Title: <a href="https://researchseminars.org/talk/UCSBsga/15/"
 >Periods and L-values of automorphic motives</a>\nby Jie Lin (Universitat 
 Duiburg-Essen) as part of UCSB Seminar on Geometry and Arithmetic\n\n\nAbs
 tract\nIn this talk\, we will first introduce a conjecture of Deligne on s
 pecial values of L-functions. This conjecture generalizes the famous resul
 t by Euler on the Riemann zeta values at positive even integers\, and pred
 icts a relation between motivic L-values and geometric periods. We will th
 en explain an approach towards this conjecture for automorphic motives and
  summarize some recent progress (joint with H. Grobner and M. Harris)\n
LOCATION:https://researchseminars.org/talk/UCSBsga/15/
END:VEVENT
END:VCALENDAR
