BEGIN:VCALENDAR
VERSION:2.0
PRODID:researchseminars.org
CALSCALE:GREGORIAN
X-WR-CALNAME:researchseminars.org
BEGIN:VEVENT
SUMMARY:Hang Xue (Univ. of Arizona)
DTSTART:20220124T230000Z
DTEND:20220124T235000Z
DTSTAMP:20260423T022918Z
UID:UCLA_NTS/43
DESCRIPTION:Title: <a href="https://researchseminars.org/talk/UCLA_NTS/43/
 ">The local Gan--Gross--Prasad conjecture for real unitary groups</a>\nby 
 Hang Xue (Univ. of Arizona) as part of UCLA Number Theory Seminar\n\n\nAbs
 tract\nI explain a very simple proof of the local Gan--Gross--Prasad conje
 cture for real unitary groups. I also explain meromorphic continuation of 
 the explicit tempered intertwining map based on a similar idea.\n
LOCATION:https://researchseminars.org/talk/UCLA_NTS/43/
END:VEVENT
END:VCALENDAR
