BEGIN:VCALENDAR
VERSION:2.0
PRODID:researchseminars.org
CALSCALE:GREGORIAN
X-WR-CALNAME:researchseminars.org
BEGIN:VEVENT
SUMMARY:Ashay Burungale (Caltech)
DTSTART:20211025T220000Z
DTEND:20211025T225000Z
DTSTAMP:20260423T022932Z
UID:UCLA_NTS/35
DESCRIPTION:Title: <a href="https://researchseminars.org/talk/UCLA_NTS/35/
 ">p-converse to a theorem of Gross-Zagier and Kolyvagin - dihedral primes<
 /a>\nby Ashay Burungale (Caltech) as part of UCLA Number Theory Seminar\n\
 nLecture held in Math Science Building 5203.\n\nAbstract\nSuch a p-convers
 e will be outlined (joint with Chris Skinner).\n
LOCATION:https://researchseminars.org/talk/UCLA_NTS/35/
END:VEVENT
END:VCALENDAR
