BEGIN:VCALENDAR
VERSION:2.0
PRODID:researchseminars.org
CALSCALE:GREGORIAN
X-WR-CALNAME:researchseminars.org
BEGIN:VEVENT
SUMMARY:Alexandra Florea (UC Irvine)
DTSTART:20211018T220000Z
DTEND:20211018T225000Z
DTSTAMP:20260423T022919Z
UID:UCLA_NTS/33
DESCRIPTION:Title: <a href="https://researchseminars.org/talk/UCLA_NTS/33/
 ">The Ratios Conjecture over function fields</a>\nby Alexandra Florea (UC 
 Irvine) as part of UCLA Number Theory Seminar\n\n\nAbstract\nI will talk a
 bout some recent joint work with H. Bui and J. Keating where we study the 
 Ratios Conjecture for the family of quadratic L-functions over function fi
 elds. I will also discuss the closely related problem of obtaining upper b
 ounds for negative moments of L-functions\, which allows us to obtain part
 ial results towards the Ratios Conjecture in the case of one over one\, tw
 o over two and three over three L-functions.\n
LOCATION:https://researchseminars.org/talk/UCLA_NTS/33/
END:VEVENT
END:VCALENDAR
