BEGIN:VCALENDAR
VERSION:2.0
PRODID:researchseminars.org
CALSCALE:GREGORIAN
X-WR-CALNAME:researchseminars.org
BEGIN:VEVENT
SUMMARY:Sam Mundy (Columbia)
DTSTART:20201110T000000Z
DTEND:20201110T005000Z
DTSTAMP:20260423T041509Z
UID:UCLA_NTS/14
DESCRIPTION:Title: <a href="https://researchseminars.org/talk/UCLA_NTS/14/
 ">Galois representations into $G_2$ and lattice constructions</a>\nby Sam 
 Mundy (Columbia) as part of UCLA Number Theory Seminar\n\n\nAbstract\nI wi
 ll describe some recent work in progress on the\nsymmetric cube Bloch-Kato
  conjecture\, constructing elements in certain\nsymmetric cube Selmer grou
 ps. This work goes by $p$-adically deforming\nEisenstein series on the exc
 eptional group $G_2$ in a cuspidal family\,\nand taking Galois representat
 ions associated with the members of this\nfamily. I will describe what one
  must do on the Galois side to make\nthis method work.\n
LOCATION:https://researchseminars.org/talk/UCLA_NTS/14/
END:VEVENT
END:VCALENDAR
