BEGIN:VCALENDAR
VERSION:2.0
PRODID:researchseminars.org
CALSCALE:GREGORIAN
X-WR-CALNAME:researchseminars.org
BEGIN:VEVENT
SUMMARY:Alice Lin (Harvard)
DTSTART:20251117T230000Z
DTEND:20251118T000000Z
DTSTAMP:20260423T022832Z
UID:UCLANTHRY/5
DESCRIPTION:Title: <a href="https://researchseminars.org/talk/UCLANTHRY/5/
 ">Finiteness of heights in isogeny classes of motives</a>\nby Alice Lin (H
 arvard) as part of UCLA Number Theory Seminar\n\nLecture held in MS 5138.\
 nAbstract: TBA\n
LOCATION:https://researchseminars.org/talk/UCLANTHRY/5/
END:VEVENT
END:VCALENDAR
