BEGIN:VCALENDAR
VERSION:2.0
PRODID:researchseminars.org
CALSCALE:GREGORIAN
X-WR-CALNAME:researchseminars.org
BEGIN:VEVENT
SUMMARY:Mehmet Kıral (RIKEN AIP)
DTSTART:20200909T160000Z
DTEND:20200909T173000Z
DTSTAMP:20260422T172218Z
UID:UCGEN/5
DESCRIPTION:Title: <a href="https://researchseminars.org/talk/UCGEN/5/">Kl
 oosterman Sums for SL3 Long Word Element</a>\nby Mehmet Kıral (RIKEN AIP)
  as part of UCGEN - Uluslararası Cebirsel GEometri Neşesi\n\n\nAbstract\
 nUsing the reduced word decomposition of the long word element of the Weyl
  group element of SL3\, we give a nice expression for the long word Kloost
 erman sum. First classical Kloosterman sums\, their importance\, and matri
 x formulation will be introduced. This is joint work with Maki Nakasuji of
  Sophia University (Tokyo).\n
LOCATION:https://researchseminars.org/talk/UCGEN/5/
END:VEVENT
END:VCALENDAR
