BEGIN:VCALENDAR
VERSION:2.0
PRODID:researchseminars.org
CALSCALE:GREGORIAN
X-WR-CALNAME:researchseminars.org
BEGIN:VEVENT
SUMMARY:Tim Tribone
DTSTART:20210421T150000Z
DTEND:20210421T160000Z
DTSTAMP:20260422T172305Z
UID:UCGEN/34
DESCRIPTION:Title: <a href="https://researchseminars.org/talk/UCGEN/34/">M
 atrix factorizations with more than two factors</a>\nby Tim Tribone as par
 t of UCGEN - Uluslararası Cebirsel GEometri Neşesi\n\n\nAbstract\nGiven 
 an element f in a regular local ring\, a matrix factorization of f is a pa
 ir of square matrices such that their product is $f$ times an identity mat
 rix of the appropriate size. These objects were originally introduced by E
 isenbud to study the hypersurface ring defined by f. We will discuss some 
 of the basic theory of matrix factorizations and then specialize to a gene
 ralization where the factorizations have more than two factors.\n
LOCATION:https://researchseminars.org/talk/UCGEN/34/
END:VEVENT
END:VCALENDAR
