BEGIN:VCALENDAR
VERSION:2.0
PRODID:researchseminars.org
CALSCALE:GREGORIAN
X-WR-CALNAME:researchseminars.org
BEGIN:VEVENT
SUMMARY:Emre Şen (University of Iowa)
DTSTART:20210127T150000Z
DTEND:20210127T160000Z
DTSTAMP:20260422T172358Z
UID:UCGEN/24
DESCRIPTION:Title: <a href="https://researchseminars.org/talk/UCGEN/24/">Q
 uivers in Algebraic Geometry: Various Examples</a>\nby Emre Şen (Universi
 ty of Iowa) as part of UCGEN - Uluslararası Cebirsel GEometri Neşesi\n\n
 \nAbstract\nThis will be an expository talk about quivers\, and their repr
 esentations. We will see why quivers naturally appear in the context of al
 gebraic geometry and how they are useful to solve algebrogeometric problem
 s. In this manner\, we discuss various subjects:  group actions with finit
 ely many orbits\, derived categories of coherent sheaves\, toric vector bu
 ndles\, exceptional sequences\, quiver moduli etc.\n
LOCATION:https://researchseminars.org/talk/UCGEN/24/
END:VEVENT
END:VCALENDAR
