BEGIN:VCALENDAR
VERSION:2.0
PRODID:researchseminars.org
CALSCALE:GREGORIAN
X-WR-CALNAME:researchseminars.org
BEGIN:VEVENT
SUMMARY:Christopher Woodward (Rutgers University)
DTSTART:20201113T163000Z
DTEND:20201113T173000Z
DTSTAMP:20260423T010250Z
UID:UBC-AG/11
DESCRIPTION:Title: <a href="https://researchseminars.org/talk/UBC-AG/11/">
 Quantum K-theory of git quotients</a>\nby Christopher Woodward (Rutgers Un
 iversity) as part of UBC Vancouver Algebraic Geometry Seminar\n\n\nAbstrac
 t\n(w E. Gonzalez)  I will discuss a generalization of the Kirwan map to q
 uantum K-theory\, a presentation of quantum K-theory of toric varieties\, 
 and some open questions.\n
LOCATION:https://researchseminars.org/talk/UBC-AG/11/
END:VEVENT
END:VCALENDAR
