BEGIN:VCALENDAR
VERSION:2.0
PRODID:researchseminars.org
CALSCALE:GREGORIAN
X-WR-CALNAME:researchseminars.org
BEGIN:VEVENT
SUMMARY:Danielle Wang (MIT)
DTSTART:20230328T210000Z
DTEND:20230328T220000Z
DTSTAMP:20260423T024753Z
UID:UAANTS/59
DESCRIPTION:Title: <a href="https://researchseminars.org/talk/UAANTS/59/">
 Global twisted GGP conjecture for unramified quadratic extensions</a>\nby 
 Danielle Wang (MIT) as part of University of Arizona Algebra and Number Th
 eory Seminar\n\nLecture held in ENR2 S395.\n\nAbstract\nThe twisted Gan--G
 ross--Prasad conjectures consider the restriction of representations from 
 GL_n to a unitary group over a quadratic extension E/F. In this talk\, I w
 ill explain the adaptation of the relative trace formula comparison used i
 n previous work on the global GGP conjecture for unitary groups\, to this 
 twisted version. In particular\, I will discuss the fundamental lemma that
  arises\, which can be used to obtain the global twisted GGP conjecture (u
 nder some local assumptions) in the case that everything is unramified\, a
 nd how it can be reduced to the Jacquet--Rallis fundamental lemma.\n
LOCATION:https://researchseminars.org/talk/UAANTS/59/
END:VEVENT
END:VCALENDAR
