BEGIN:VCALENDAR
VERSION:2.0
PRODID:researchseminars.org
CALSCALE:GREGORIAN
X-WR-CALNAME:researchseminars.org
BEGIN:VEVENT
SUMMARY:Stefan Patrikis (Ohio State Univ.)
DTSTART:20200922T170000Z
DTEND:20200922T180000Z
DTSTAMP:20260423T005852Z
UID:UAANTS/1
DESCRIPTION:Title: <a href="https://researchseminars.org/talk/UAANTS/1/">L
 ifting Galois representations</a>\nby Stefan Patrikis (Ohio State Univ.) a
 s part of University of Arizona Algebra and Number Theory Seminar\n\n\nAbs
 tract\nI will survey joint work with Najmuddin Fakhruddin and Chandrashekh
 ar Khare in which we prove in many cases existence of geometric p-adic lif
 ts of "odd" mod p Galois representations\, valued in general reductive gro
 ups. Then I will discuss applications to modularity of reducible mod p Gal
 ois representations.\n
LOCATION:https://researchseminars.org/talk/UAANTS/1/
END:VEVENT
END:VCALENDAR
