BEGIN:VCALENDAR
VERSION:2.0
PRODID:researchseminars.org
CALSCALE:GREGORIAN
X-WR-CALNAME:researchseminars.org
BEGIN:VEVENT
SUMMARY:Henry Semenenko (Quantinuum)
DTSTART:20240625T140000Z
DTEND:20240625T150000Z
DTSTAMP:20260423T021411Z
UID:TalentQ/7
DESCRIPTION:Title: <a href="https://researchseminars.org/talk/TalentQ/7/">
 Quantum Error Correction and Scaling with Trapped-Ions</a>\nby Henry Semen
 enko (Quantinuum) as part of Quantum Spain\n\nAbstract: TBA\n\nQuantinuum'
 s quantum processors use the quantum charge-coupled device (QCCD) architec
 ture with trapped-ion qubits to deliver leading performance with high-fide
 lity gates and all-to-all connectivity. As we look towards performing more
  complex algorithms that require vast numbers of operations\, it will be n
 ecessary to develop quantum error correction (QEC) to reduce error below t
 he physical level. Recent QEC results using Quantinuum's processors have d
 emonstrated logical error rates significantly below the physical level sig
 nifying a transition towards reliable quantum computing. This talk will pr
 ovide an overview of the QCCD trapped-ion architecture\, present QEC resul
 ts demonstrating better-than-physical error rates\, and discuss the future
  scaling of Quantinuum's processors.\n
LOCATION:https://researchseminars.org/talk/TalentQ/7/
END:VEVENT
END:VCALENDAR
