BEGIN:VCALENDAR
VERSION:2.0
PRODID:researchseminars.org
CALSCALE:GREGORIAN
X-WR-CALNAME:researchseminars.org
BEGIN:VEVENT
SUMMARY:Francesca Fedele (Università di Verona)
DTSTART:20220308T150000Z
DTEND:20220308T160000Z
DTSTAMP:20260423T024530Z
UID:TRAC/37
DESCRIPTION:Title: <a href="https://researchseminars.org/talk/TRAC/37/">Un
 iversal localizations of d-homological pairs</a>\nby Francesca Fedele (Uni
 versità di Verona) as part of The TRAC Seminar - Théorie de Représentat
 ions et ses Applications et Connections\n\n\nAbstract\nLet k be an algebra
 ically closed field and A a finite dimensional k-algebra. The universal lo
 calization of A with respect to a set of morphisms between finitely genera
 ted projective A-modules always exists. Moreover\, when A is hereditary\, 
 Krause and Stovicek proved that the universal localizations of A are in bi
 jection with various natural structures.\nIn this talk\, based on joint wo
 rk with Peter Jorgensen\, I will introduce the higher analogue of universa
 l localizations\, that is universal localizations of d-homological pairs w
 ith respect to certain wide subcategories\, and show a (partial) generalis
 ation of Krause and Stovicek result in the higher setup.\n
LOCATION:https://researchseminars.org/talk/TRAC/37/
END:VEVENT
END:VCALENDAR
