BEGIN:VCALENDAR
VERSION:2.0
PRODID:researchseminars.org
CALSCALE:GREGORIAN
X-WR-CALNAME:researchseminars.org
BEGIN:VEVENT
SUMMARY:Ikshu Neithalath (UCLA\, California)
DTSTART:20210312T170000Z
DTEND:20210312T180000Z
DTSTAMP:20260423T024653Z
UID:TQFT/31
DESCRIPTION:Title: <a href="https://researchseminars.org/talk/TQFT/31/">Sk
 ein Lasagna modules of 2-handlebodies</a>\nby Ikshu Neithalath (UCLA\, Cal
 ifornia) as part of Topological Quantum Field Theory Club (IST\, Lisbon)\n
 \n\nAbstract\nMorrison\, Walker and Wedrich recently defined a generalizat
 ion of Khovanov-Rozansky homology to links in the boundary of a 4-manifold
 . \nWe will discuss recent joint work with Ciprian Manolescu on computing 
 the "skein lasagna module\," a basic part of MWW's invariant\, for a certa
 in class of 4-manifolds.\n
LOCATION:https://researchseminars.org/talk/TQFT/31/
END:VEVENT
END:VCALENDAR
