BEGIN:VCALENDAR
VERSION:2.0
PRODID:researchseminars.org
CALSCALE:GREGORIAN
X-WR-CALNAME:researchseminars.org
BEGIN:VEVENT
SUMMARY:Victor Ostrik (University of Oregon)
DTSTART:20201204T170000Z
DTEND:20201204T180000Z
DTSTAMP:20260423T021444Z
UID:TQFT/20
DESCRIPTION:Title: <a href="https://researchseminars.org/talk/TQFT/20/">Tw
 o dimensional topological field theories and partial fractions</a>\nby Vic
 tor Ostrik (University of Oregon) as part of Topological Quantum Field The
 ory Club (IST\, Lisbon)\n\nAbstract: TBA\n
LOCATION:https://researchseminars.org/talk/TQFT/20/
END:VEVENT
END:VCALENDAR
